BEGIN:VCALENDAR
VERSION:2.0
PRODID:-//Dersingham Parish Council//Meeting Calendar//EN
CALSCALE:GREGORIAN
METHOD:PUBLISH
BEGIN:VEVENT
UID:71904-20190114@dersingham-pc.gov.uk
DTSTAMP:20260421T185059Z
DTSTART;VALUE=DATE:20190114
DTEND;VALUE=DATE:20190115
SUMMARY:Planning Meeting &#8211\\; 14th January 2019
DESCRIPTION:Planning Committee Meeting\nView details: https://dersingham-pc.gov.uk/meetings/planning-meeting-14th-january-2019/
URL:https://dersingham-pc.gov.uk/meetings/planning-meeting-14th-january-2019/
END:VEVENT
END:VCALENDAR
