BEGIN:VCALENDAR
VERSION:2.0
PRODID:-//Dersingham Parish Council//Meeting Calendar//EN
CALSCALE:GREGORIAN
METHOD:PUBLISH
BEGIN:VEVENT
UID:72034-20201123@dersingham-pc.gov.uk
DTSTAMP:20260421T140954Z
DTSTART;VALUE=DATE:20201123
DTEND;VALUE=DATE:20201124
SUMMARY:Council Meeting &#8211\\; 23rd November 2020
DESCRIPTION:Full Council Meeting\nView details: https://dersingham-pc.gov.uk/meetings/council-meeting-23rd-november-2020/
URL:https://dersingham-pc.gov.uk/meetings/council-meeting-23rd-november-2020/
END:VEVENT
END:VCALENDAR
