BEGIN:VCALENDAR
VERSION:2.0
PRODID:-//Dersingham Parish Council//Meeting Calendar//EN
CALSCALE:GREGORIAN
METHOD:PUBLISH
BEGIN:VEVENT
UID:72534-20181210@dersingham-pc.gov.uk
DTSTAMP:20260421T172152Z
DTSTART;VALUE=DATE:20181210
DTEND;VALUE=DATE:20181211
SUMMARY:Planning Meeting – 10th December 2018
DESCRIPTION:Planning Committee Meeting\nView details: https://dersingham-pc.gov.uk/meetings/planning-meeting-10th-december-2018/
URL:https://dersingham-pc.gov.uk/meetings/planning-meeting-10th-december-2018/
END:VEVENT
END:VCALENDAR
