BEGIN:VCALENDAR
VERSION:2.0
PRODID:-//Dersingham Parish Council//Meeting Calendar//EN
CALSCALE:GREGORIAN
METHOD:PUBLISH
BEGIN:VEVENT
UID:72564-20171205@dersingham-pc.gov.uk
DTSTAMP:20260421T140856Z
DTSTART;VALUE=DATE:20171205
DTEND;VALUE=DATE:20171206
SUMMARY:Planning Meeting – 5th December 2017
DESCRIPTION:Planning Committee Meeting\nView details: https://dersingham-pc.gov.uk/meetings/planning-meeting-5th-december-2017/
URL:https://dersingham-pc.gov.uk/meetings/planning-meeting-5th-december-2017/
END:VEVENT
END:VCALENDAR
