BEGIN:VCALENDAR
VERSION:2.0
PRODID:-//Dersingham Parish Council//Meeting Calendar//EN
CALSCALE:GREGORIAN
METHOD:PUBLISH
BEGIN:VEVENT
UID:73029-20151005@dersingham-pc.gov.uk
DTSTAMP:20260421T123238Z
DTSTART;VALUE=DATE:20151005
DTEND;VALUE=DATE:20151006
SUMMARY:Recreation Meeting &#8211\\; 5th October 2015
DESCRIPTION:Recreation Committee Meeting\nView details: https://dersingham-pc.gov.uk/meetings/recreation-meeting-5th-october-2015/
URL:https://dersingham-pc.gov.uk/meetings/recreation-meeting-5th-october-2015/
END:VEVENT
END:VCALENDAR
