BEGIN:VCALENDAR
VERSION:2.0
PRODID:-//Dersingham Parish Council//Meeting Calendar//EN
CALSCALE:GREGORIAN
METHOD:PUBLISH
BEGIN:VEVENT
UID:73180-20170522@dersingham-pc.gov.uk
DTSTAMP:20260419T181810Z
DTSTART;VALUE=DATE:20170522
DTEND;VALUE=DATE:20170523
SUMMARY:Council Meeting – 22nd May 2017
DESCRIPTION:Full Council Meeting\nView details: https://dersingham-pc.gov.uk/meetings/council-meeting-22nd-may-2017/
URL:https://dersingham-pc.gov.uk/meetings/council-meeting-22nd-may-2017/
END:VEVENT
END:VCALENDAR
